BEGIN:VCALENDAR
VERSION:2.0
PRODID:-//Vestischen Christopher STREET DAY E.V. - ECPv6.15.20//NONSGML v1.0//EN
CALSCALE:GREGORIAN
METHOD:PUBLISH
X-WR-CALNAME:Vestischen Christopher STREET DAY E.V.
X-ORIGINAL-URL:https://repride.de
X-WR-CALDESC:Veranstaltungen für Vestischen Christopher STREET DAY E.V.
REFRESH-INTERVAL;VALUE=DURATION:PT1H
X-Robots-Tag:noindex
X-PUBLISHED-TTL:PT1H
BEGIN:VTIMEZONE
TZID:UTC
BEGIN:STANDARD
TZOFFSETFROM:+0000
TZOFFSETTO:+0000
TZNAME:UTC
DTSTART:20230101T000000
END:STANDARD
END:VTIMEZONE
BEGIN:VEVENT
DTSTART;VALUE=DATE:20241129
DTEND;VALUE=DATE:20241202
DTSTAMP:20260425T020126
CREATED:20241120T201343Z
LAST-MODIFIED:20241120T201948Z
UID:175-1732838400-1733097599@repride.de
SUMMARY:Stille Nacht – Queere Pracht
DESCRIPTION:Stille Nacht – Queere Pracht\nGlamour Weihnachtswochenende\n  \n \nQueerer Filmabend:\n29. November \n (kostenlos\, Anmeldung erforderlich) \nHort der Altstadtschmiede \nKeller Str. 10 \n45657 Recklinghausen \n  \nTanzworkshop:\n30. November \nAltstadtschmiede Recklinghausen \nKeller Str. 10 \n45657 Recklinghausen \nDie Anmeldung für den Tanzworkshop bei Melis Mevrok (Mitarbeiterin für die queere Kinder- und Jugendarbeit in Recklinghausen). Das Angebot ist kostenlos. \n  \nGottesdienst:\n30. November \nGymnasialkirche Petrinum \nSteinstr. 2 \n45657 Recklinghausen \nBeginn 15:30 Uhr \nGottesdienst unter dem Motto „Kommt… und nehmt das Licht!“ \nEin Gottesdienst von Queers für Queers um in der dunklen Jahreszeit den Leuten zu Gedenken die nicht mehr am Leben teilhaben können\, und auch ein wenig Licht und Kraft zu spenden. \nDer evangelische Kirchenkreis\, HuK e.V. und der VCSD e.V. \n  \nWeihnachtsempfang und Party:\n30. November \nAltstadtschmiede Recklinghausen \nKeller Str. 10 \n45657 Recklinghausen \nDer Empfang beginnt um 18:00 Uhr\, Einlass 17:30 Uhr \nSämtliche Spenden kommen anlässlich des Welt-Aidstages der Aidshilfe Bottrop e.V. zugute. Darüber hinaus gehen je 2 Euro pro Ticket ebenfalls an die Aidshilfe. \nBetty D. Fort wird durch den Abend führen und für die ein oder andere Überraschung sorgen. Ein Mix aus Musik\, Show und informativen Beiträgen werden den Empfang prägen (mehr Infos auch auf unseren sozialmedia Kanälen). \nAußerdem wird erstmals der RE-PRIDE Award verliehen. Dabei sein lohnt sich. \nGegen 21:00 Uhr wird DJ Gussfehler für eine weihnachtliche\, queer & friends Party für Stimmung sorgen. \nDie Karten für den Empfang / Party können beim VCSD e.V. und der Altstadtschmiede erworben werden. \n2€ von jedem Ticket gehen an die Aidshilfe Bottrop! \n  \n 
URL:https://repride.de/event/stille-nacht-queere-pracht/
LOCATION:Altstadtschmiede e.V. Recklinghausen\, Kellerstr. 10\, Recklinghausen\, NRW\, 45657\, Germany
CATEGORIES:Events
ATTACH;FMTTYPE=image/jpeg:https://repride.de/wp-content/uploads/2024/10/IMG-20241014-WA0014.jpg
ORGANIZER;CN="VCSD e.V.":MAILTO:info@csd-re.nrw
END:VEVENT
END:VCALENDAR