BEGIN:VCALENDAR
VERSION:2.0
PRODID:-//Vestischen Christopher STREET DAY E.V. - ECPv6.15.20//NONSGML v1.0//EN
CALSCALE:GREGORIAN
METHOD:PUBLISH
X-ORIGINAL-URL:https://repride.de
X-WR-CALDESC:Veranstaltungen für Vestischen Christopher STREET DAY E.V.
REFRESH-INTERVAL;VALUE=DURATION:PT1H
X-Robots-Tag:noindex
X-PUBLISHED-TTL:PT1H
BEGIN:VTIMEZONE
TZID:Europe/Berlin
BEGIN:DAYLIGHT
TZOFFSETFROM:+0100
TZOFFSETTO:+0200
TZNAME:CEST
DTSTART:20250330T010000
END:DAYLIGHT
BEGIN:STANDARD
TZOFFSETFROM:+0200
TZOFFSETTO:+0100
TZNAME:CET
DTSTART:20251026T010000
END:STANDARD
BEGIN:DAYLIGHT
TZOFFSETFROM:+0100
TZOFFSETTO:+0200
TZNAME:CEST
DTSTART:20260329T010000
END:DAYLIGHT
BEGIN:STANDARD
TZOFFSETFROM:+0200
TZOFFSETTO:+0100
TZNAME:CET
DTSTART:20261025T010000
END:STANDARD
BEGIN:DAYLIGHT
TZOFFSETFROM:+0100
TZOFFSETTO:+0200
TZNAME:CEST
DTSTART:20270328T010000
END:DAYLIGHT
BEGIN:STANDARD
TZOFFSETFROM:+0200
TZOFFSETTO:+0100
TZNAME:CET
DTSTART:20271031T010000
END:STANDARD
END:VTIMEZONE
BEGIN:VEVENT
DTSTART;TZID=Europe/Berlin:20260608T180000
DTEND;TZID=Europe/Berlin:20260608T233000
DTSTAMP:20260422T140432
CREATED:20250119T122112Z
LAST-MODIFIED:20260418T105307Z
UID:783-1780941600-1780961400@repride.de
SUMMARY:Queerer Stammtisch Juni
DESCRIPTION:Queerer Stammtisch\n18 Uhr in der Altstadtschmiede \nKellerstraße 10\, 45657 Recklinghausen
URL:https://repride.de/event/queerer-stammtisch-juni/
CATEGORIES:Stammtich
ATTACH;FMTTYPE=image/jpeg:https://repride.de/wp-content/uploads/2025/01/stammtisch-tumbnail-e1737288495754.jpg
END:VEVENT
BEGIN:VEVENT
DTSTART;TZID=Europe/Berlin:20260613T130000
DTEND;TZID=Europe/Berlin:20260613T200000
DTSTAMP:20260422T140432
CREATED:20260418T093140Z
LAST-MODIFIED:20260418T093915Z
UID:1161-1781355600-1781380800@repride.de
SUMMARY:RE-Pride / CSD 2026
DESCRIPTION:Weitere informationen hier !
URL:https://repride.de/event/1161/
CATEGORIES:Events,Pride Event
ATTACH;FMTTYPE=image/jpeg:https://repride.de/wp-content/uploads/2026/04/CSD-2026-Plakat_top.jpg
END:VEVENT
END:VCALENDAR