BEGIN:VCALENDAR
VERSION:2.0
PRODID:-//Vestischen Christopher STREET DAY E.V. - ECPv6.15.20//NONSGML v1.0//EN
CALSCALE:GREGORIAN
METHOD:PUBLISH
X-ORIGINAL-URL:https://repride.de
X-WR-CALDESC:Veranstaltungen für Vestischen Christopher STREET DAY E.V.
REFRESH-INTERVAL;VALUE=DURATION:PT1H
X-Robots-Tag:noindex
X-PUBLISHED-TTL:PT1H
BEGIN:VTIMEZONE
TZID:Europe/Berlin
BEGIN:DAYLIGHT
TZOFFSETFROM:+0100
TZOFFSETTO:+0200
TZNAME:CEST
DTSTART:20240331T010000
END:DAYLIGHT
BEGIN:STANDARD
TZOFFSETFROM:+0200
TZOFFSETTO:+0100
TZNAME:CET
DTSTART:20241027T010000
END:STANDARD
BEGIN:DAYLIGHT
TZOFFSETFROM:+0100
TZOFFSETTO:+0200
TZNAME:CEST
DTSTART:20250330T010000
END:DAYLIGHT
BEGIN:STANDARD
TZOFFSETFROM:+0200
TZOFFSETTO:+0100
TZNAME:CET
DTSTART:20251026T010000
END:STANDARD
BEGIN:DAYLIGHT
TZOFFSETFROM:+0100
TZOFFSETTO:+0200
TZNAME:CEST
DTSTART:20260329T010000
END:DAYLIGHT
BEGIN:STANDARD
TZOFFSETFROM:+0200
TZOFFSETTO:+0100
TZNAME:CET
DTSTART:20261025T010000
END:STANDARD
END:VTIMEZONE
BEGIN:VEVENT
DTSTART;TZID=Europe/Berlin:20250607T130000
DTEND;TZID=Europe/Berlin:20250607T210000
DTSTAMP:20260424T233413
CREATED:20250427T202719Z
LAST-MODIFIED:20250502T115412Z
UID:683-1749301200-1749330000@repride.de
SUMMARY:CSD/Pride Recklinghausen
DESCRIPTION:RE PRIDE\n\n\n\nNIE WIEDER STILL!\n\n\n\nFÜR DICH\n\n\n\nFÜR UNS (ALLE)\n\n\n\nFÜR DIE DEMOKRATIE!\n\n\nWeitere Informationen\n\n07JUNI\n\n \n\n2025\n\n\n\n\n\n\n \n\n\n\n\n \n\n\n\n\n\n 
URL:https://repride.de/event/csd-pride-recklinghausen/
LOCATION:Recklinghausen Rathausplatz\, Rathauspl.\, Recklinghausen\, 45657\, Germany
CATEGORIES:Events,Pride Event
ATTACH;FMTTYPE=image/jpeg:https://repride.de/wp-content/uploads/2025/04/WhatsApp-Bild-2025-04-18-um-18.34.28_9f6bd350-scaled.jpg
ORGANIZER;CN="VCSD e.V.":MAILTO:info@csd-re.nrw
END:VEVENT
END:VCALENDAR